BEGIN:VCALENDAR
VERSION:2.0
PRODID:-//✏️ GGS Rottsieper Höhe - ECPv4.6.26.1//NONSGML v1.0//EN
CALSCALE:GREGORIAN
METHOD:PUBLISH
X-WR-CALNAME:✏️ GGS Rottsieper Höhe
X-ORIGINAL-URL:http://www.rottsieperhoehe.de
X-WR-CALDESC:Veranstaltungen für ✏️ GGS Rottsieper Höhe
BEGIN:VEVENT
DTSTART;TZID=Europe/Berlin:20200813T100000
DTEND;TZID=Europe/Berlin:20200813T104500
DTSTAMP:20260420T023138
CREATED:20200805T061451Z
LAST-MODIFIED:20200805T061451Z
UID:3084-1597312800-1597315500@www.rottsieperhoehe.de
SUMMARY:Die 1a geht in den Unterricht
DESCRIPTION:\n\n\nDie Klasse 1a geht mit ihrer Klassenlehrerin in den Unterricht. \n\n\n\n
URL:http://www.rottsieperhoehe.de/event/die-1a-geht-in-den-unterricht/
END:VEVENT
END:VCALENDAR