BEGIN:VCALENDAR
VERSION:2.0
PRODID:-//✏️ GGS Rottsieper Höhe - ECPv4.6.26.1//NONSGML v1.0//EN
CALSCALE:GREGORIAN
METHOD:PUBLISH
X-WR-CALNAME:✏️ GGS Rottsieper Höhe
X-ORIGINAL-URL:http://www.rottsieperhoehe.de
X-WR-CALDESC:Veranstaltungen für ✏️ GGS Rottsieper Höhe
BEGIN:VEVENT
DTSTART;TZID=Europe/Berlin:20200813T120000
DTEND;TZID=Europe/Berlin:20200813T124500
DTSTAMP:20260419T213653
CREATED:20200805T061844Z
LAST-MODIFIED:20200805T061844Z
UID:3092-1597320000-1597322700@www.rottsieperhoehe.de
SUMMARY:Die 1b geht in den Unterricht
DESCRIPTION:\n\n\nDie Klasse 1b geht mit ihrer Klassenlehrerin in den Unterricht. \n\n\n\n
URL:http://www.rottsieperhoehe.de/event/die-1b-geht-in-den-unterricht/
END:VEVENT
END:VCALENDAR