BEGIN:VCALENDAR
VERSION:2.0
PRODID:-//✏️ GGS Rottsieper Höhe - ECPv4.6.26.1//NONSGML v1.0//EN
CALSCALE:GREGORIAN
METHOD:PUBLISH
X-WR-CALNAME:✏️ GGS Rottsieper Höhe
X-ORIGINAL-URL:http://www.rottsieperhoehe.de
X-WR-CALDESC:Veranstaltungen für ✏️ GGS Rottsieper Höhe
BEGIN:VEVENT
DTSTART;TZID=Europe/Berlin:20200813T094500
DTEND;TZID=Europe/Berlin:20200813T100000
DTSTAMP:20260420T004918
CREATED:20200805T061338Z
LAST-MODIFIED:20200805T061646Z
UID:3082-1597311900-1597312800@www.rottsieperhoehe.de
SUMMARY:Einschulungsfeier der 1a
DESCRIPTION:\n\n\nEinschulungsfeier der 1a auf dem Schulhof der Grundschule Rottsie-\nper Höhe (bitte treffen Sie nicht vorher auf dem Schulhof/vor dem Schultor ein). \n\n\n\n
URL:http://www.rottsieperhoehe.de/event/einschulungsfeier-der-1a/
END:VEVENT
END:VCALENDAR