BEGIN:VCALENDAR
VERSION:2.0
PRODID:-//✏️ GGS Rottsieper Höhe - ECPv4.6.26.1//NONSGML v1.0//EN
CALSCALE:GREGORIAN
METHOD:PUBLISH
X-WR-CALNAME:✏️ GGS Rottsieper Höhe
X-ORIGINAL-URL:http://www.rottsieperhoehe.de
X-WR-CALDESC:Veranstaltungen für ✏️ GGS Rottsieper Höhe
BEGIN:VEVENT
DTSTART;TZID=Europe/Berlin:20240704T103000
DTEND;TZID=Europe/Berlin:20240704T113000
DTSTAMP:20260422T085437
CREATED:20231021T125719Z
LAST-MODIFIED:20231021T125719Z
UID:5676-1720089000-1720092600@www.rottsieperhoehe.de
SUMMARY:Gottesdienst- Schulende in der Nikodemus Kirche
DESCRIPTION:
URL:http://www.rottsieperhoehe.de/event/gottesdienst-schulende-in-der-nikodemus-kirche/
END:VEVENT
END:VCALENDAR